BEGIN:VCALENDAR
VERSION:2.0
PRODID:-//BIODANZA mit Kerstin - ECPv6.8.3//NONSGML v1.0//EN
CALSCALE:GREGORIAN
METHOD:PUBLISH
X-ORIGINAL-URL:https://biodanzamitkerstin.de
X-WR-CALDESC:Veranstaltungen für BIODANZA mit Kerstin
REFRESH-INTERVAL;VALUE=DURATION:PT1H
X-Robots-Tag:noindex
X-PUBLISHED-TTL:PT1H
BEGIN:VTIMEZONE
TZID:Europe/Berlin
BEGIN:DAYLIGHT
TZOFFSETFROM:+0100
TZOFFSETTO:+0200
TZNAME:CEST
DTSTART:20240331T010000
END:DAYLIGHT
BEGIN:STANDARD
TZOFFSETFROM:+0200
TZOFFSETTO:+0100
TZNAME:CET
DTSTART:20241027T010000
END:STANDARD
END:VTIMEZONE
BEGIN:VEVENT
DTSTART;TZID=Europe/Berlin:20240405T193000
DTEND;TZID=Europe/Berlin:20240405T213000
DTSTAMP:20260426T053513
CREATED:20240201T112950Z
LAST-MODIFIED:20240201T112950Z
UID:381-1712345400-1712352600@biodanzamitkerstin.de
SUMMARY:Offener Abend - Nümbrecht
DESCRIPTION:Die Biodanza-Gruppe Nümbrecht öffnet sich für neue Teilnehmerinnen und Teilnehmer.
URL:https://biodanzamitkerstin.de/event/offener-abend-nuembrecht-2/
LOCATION:Dorfhaus Gaderoth\, Rolandsborn 14\, Nümbrecht-Gaderoth\, 51588
CATEGORIES:Biodanza - offener Abend
END:VEVENT
END:VCALENDAR