BEGIN:VCALENDAR
VERSION:2.0
PRODID:-//BIODANZA mit Kerstin - ECPv6.8.3//NONSGML v1.0//EN
CALSCALE:GREGORIAN
METHOD:PUBLISH
X-ORIGINAL-URL:https://biodanzamitkerstin.de
X-WR-CALDESC:Veranstaltungen für BIODANZA mit Kerstin
REFRESH-INTERVAL;VALUE=DURATION:PT1H
X-Robots-Tag:noindex
X-PUBLISHED-TTL:PT1H
BEGIN:VTIMEZONE
TZID:Europe/Berlin
BEGIN:DAYLIGHT
TZOFFSETFROM:+0100
TZOFFSETTO:+0200
TZNAME:CEST
DTSTART:20250330T010000
END:DAYLIGHT
BEGIN:STANDARD
TZOFFSETFROM:+0200
TZOFFSETTO:+0100
TZNAME:CET
DTSTART:20251026T010000
END:STANDARD
END:VTIMEZONE
BEGIN:VEVENT
DTSTART;TZID=Europe/Berlin:20250720T110000
DTEND;TZID=Europe/Berlin:20250720T170000
DTSTAMP:20260420T103916
CREATED:20250716T062156Z
LAST-MODIFIED:20250716T062156Z
UID:779-1753009200-1753030800@biodanzamitkerstin.de
SUMMARY:Tagesworkshop Biodanza im Wäldchen
DESCRIPTION:Ein ganz besonderes Highlight findet im Juli statt. Ich wohne in einem kleinen Ort im Oberbergischen. Inmitten der dörflichen Bebauung gibt es ein Stück Land\, dass ich nun seit mittlerweile 7 Jahren mit all meiner Liebe und Wertschätzung für die Kräfte der Natur wiederbelebe\, sich wiederbeleben lasse. Dort stehen über 100-jährige Buchen mit einem kleinen Waldkindergarten. Haselnuss\, Holunder und Ahorn gesellen sich dazu. Kleine Eichen möchten auch davon profitieren und die Natur nimmt an diesem Ort mit allerlei Tieren wieder Platz\, verbindet sich\, integriert sich\, hat Raum. \nIn dieser wundervollen Umgebung habe ich in den vergangenen Jahren zwei Nachmittage mit Gesang erlebt und das Wäldchen hat noch tagelang davon geflüstert. Nun möchte ich diesen Raum im Tanz des Lebens mit Euch teilen. Wir werden in das Naturerleben eintauchen\, es mit Tanz und Musik beleben und belebt werden. Ein Geben und Nehmen in Gemeinschaft.
URL:https://biodanzamitkerstin.de/event/tagesworkshop-biodanza-im-waeldchen/
LOCATION:Wäldchen\, Zum Puhlbruch 6\, Reichshof\, Nordrhein-Westfalen\, 51580\, Germany
CATEGORIES:Biodanza - Tagesworkshop
END:VEVENT
END:VCALENDAR