BEGIN:VCALENDAR
VERSION:2.0
PRODID:-//BIODANZA mit Kerstin - ECPv6.8.3//NONSGML v1.0//EN
CALSCALE:GREGORIAN
METHOD:PUBLISH
X-ORIGINAL-URL:https://biodanzamitkerstin.de
X-WR-CALDESC:Veranstaltungen für BIODANZA mit Kerstin
REFRESH-INTERVAL;VALUE=DURATION:PT1H
X-Robots-Tag:noindex
X-PUBLISHED-TTL:PT1H
BEGIN:VTIMEZONE
TZID:Europe/Berlin
BEGIN:DAYLIGHT
TZOFFSETFROM:+0100
TZOFFSETTO:+0200
TZNAME:CEST
DTSTART:20250330T010000
END:DAYLIGHT
BEGIN:STANDARD
TZOFFSETFROM:+0200
TZOFFSETTO:+0100
TZNAME:CET
DTSTART:20251026T010000
END:STANDARD
END:VTIMEZONE
BEGIN:VEVENT
DTSTART;TZID=Europe/Berlin:20250919T193000
DTEND;TZID=Europe/Berlin:20250919T213000
DTSTAMP:20260425T004612
CREATED:20250213T162858Z
LAST-MODIFIED:20250213T162858Z
UID:719-1758310200-1758317400@biodanzamitkerstin.de
SUMMARY:Regelmäßige Gruppe - Nümbrecht
DESCRIPTION:Die Biodanza-Gruppe Nümbrecht ist eine geschlossene Gruppe\, die schon eine ganze Weile miteinander tanzt. Wenn Du Interesse hast dabei zu sein dann sprich mich gerne an. Ab und zu wird sich diese Gruppe für neue Mitglieder öffnen.
URL:https://biodanzamitkerstin.de/event/regelmaessige-gruppe-nuembrecht-46/
LOCATION:Dorfhaus Gaderoth\, Rolandsborn 14\, Nümbrecht-Gaderoth\, 51588
CATEGORIES:Biodanza - regelmäßige Gruppe
END:VEVENT
END:VCALENDAR