BEGIN:VCALENDAR
VERSION:2.0
PRODID:-//BIODANZA mit Kerstin - ECPv6.8.3//NONSGML v1.0//EN
CALSCALE:GREGORIAN
METHOD:PUBLISH
X-WR-CALNAME:BIODANZA mit Kerstin
X-ORIGINAL-URL:https://biodanzamitkerstin.de
X-WR-CALDESC:Veranstaltungen für BIODANZA mit Kerstin
REFRESH-INTERVAL;VALUE=DURATION:PT1H
X-Robots-Tag:noindex
X-PUBLISHED-TTL:PT1H
BEGIN:VTIMEZONE
TZID:Europe/Berlin
BEGIN:DAYLIGHT
TZOFFSETFROM:+0100
TZOFFSETTO:+0200
TZNAME:CEST
DTSTART:20260329T010000
END:DAYLIGHT
BEGIN:STANDARD
TZOFFSETFROM:+0200
TZOFFSETTO:+0100
TZNAME:CET
DTSTART:20261025T010000
END:STANDARD
END:VTIMEZONE
BEGIN:VEVENT
DTSTART;TZID=Europe/Berlin:20260424T193000
DTEND;TZID=Europe/Berlin:20260424T213000
DTSTAMP:20260424T113213
CREATED:20260309T111750Z
LAST-MODIFIED:20260310T174715Z
UID:904-1777059000-1777066200@biodanzamitkerstin.de
SUMMARY:Wochengruppe Nümbrecht
DESCRIPTION:Die Biodanza-Gruppe am Freitag ist eine Gruppe\, die schon eine ganze Weile miteinander tanzt. Wenn Du Interesse hast regelmäßig dabei zu sein dann sprich mich gerne an.
URL:https://biodanzamitkerstin.de/event/wochengruppe-nuembrech/
LOCATION:Dorfhaus Gaderoth\, Rolandsborn 14\, Nümbrecht-Gaderoth\, 51588
CATEGORIES:Biodanza - regelmäßige Gruppe
END:VEVENT
END:VCALENDAR