BEGIN:VCALENDAR
VERSION:2.0
PRODID:-//BIODANZA mit Kerstin - ECPv6.8.3//NONSGML v1.0//EN
CALSCALE:GREGORIAN
METHOD:PUBLISH
X-WR-CALNAME:BIODANZA mit Kerstin
X-ORIGINAL-URL:https://biodanzamitkerstin.de
X-WR-CALDESC:Veranstaltungen für BIODANZA mit Kerstin
REFRESH-INTERVAL;VALUE=DURATION:PT1H
X-Robots-Tag:noindex
X-PUBLISHED-TTL:PT1H
BEGIN:VTIMEZONE
TZID:Europe/Berlin
BEGIN:DAYLIGHT
TZOFFSETFROM:+0100
TZOFFSETTO:+0200
TZNAME:CEST
DTSTART:20240331T010000
END:DAYLIGHT
BEGIN:STANDARD
TZOFFSETFROM:+0200
TZOFFSETTO:+0100
TZNAME:CET
DTSTART:20241027T010000
END:STANDARD
END:VTIMEZONE
BEGIN:VEVENT
DTSTART;TZID=Europe/Berlin:20240201T191500
DTEND;TZID=Europe/Berlin:20240201T211500
DTSTAMP:20260426T053355
CREATED:20240122T171906Z
LAST-MODIFIED:20240122T180913Z
UID:350-1706814900-1706822100@biodanzamitkerstin.de
SUMMARY:offener Abend - Drolshagen
DESCRIPTION:Jeden Monat findet ein offener Abend statt. Du kannst auch teilnehmen\, wenn Du Biodanza noch nicht kennst und gerne ausprobieren möchtest. Komm tanz mit uns!
URL:https://biodanzamitkerstin.de/event/offener-abend-drolshagen/
LOCATION:Alte Schule Dumicke\, gegenüber von An der Schlade 2\, Drolshagen-Dumicke\, 57489
CATEGORIES:Biodanza - offener Abend
END:VEVENT
BEGIN:VEVENT
DTSTART;TZID=Europe/Berlin:20240202T193000
DTEND;TZID=Europe/Berlin:20240202T213000
DTSTAMP:20260426T053355
CREATED:20240122T172835Z
LAST-MODIFIED:20240122T172835Z
UID:363-1706902200-1706909400@biodanzamitkerstin.de
SUMMARY:Regelmäßige Gruppe - Nümbrecht
DESCRIPTION:
URL:https://biodanzamitkerstin.de/event/regelmaessige-gruppe-nuembrecht/
LOCATION:Dorfhaus Gaderoth\, Rolandsborn 14\, Nümbrecht-Gaderoth\, 51588
CATEGORIES:Biodanza - regelmäßige Gruppe
END:VEVENT
BEGIN:VEVENT
DTSTART;TZID=Europe/Berlin:20240216T193000
DTEND;TZID=Europe/Berlin:20240216T213000
DTSTAMP:20260426T053355
CREATED:20240122T172935Z
LAST-MODIFIED:20240122T172935Z
UID:366-1708111800-1708119000@biodanzamitkerstin.de
SUMMARY:Regelmäßige Gruppe - Nümbrecht
DESCRIPTION:
URL:https://biodanzamitkerstin.de/event/regelmaessige-gruppe-nuembrecht-2/
LOCATION:Dorfhaus Gaderoth\, Rolandsborn 14\, Nümbrecht-Gaderoth\, 51588
CATEGORIES:Biodanza - regelmäßige Gruppe
END:VEVENT
BEGIN:VEVENT
DTSTART;TZID=Europe/Berlin:20240223T193000
DTEND;TZID=Europe/Berlin:20240223T213000
DTSTAMP:20260426T053355
CREATED:20240122T094230Z
LAST-MODIFIED:20240122T175859Z
UID:323-1708716600-1708723800@biodanzamitkerstin.de
SUMMARY:Regelmäßige Gruppe - Nümbrecht
DESCRIPTION:
URL:https://biodanzamitkerstin.de/event/biodanza-in-nuembrecht-offener-abend/
LOCATION:Dorfhaus Gaderoth\, Rolandsborn 14\, Nümbrecht-Gaderoth\, 51588
CATEGORIES:Biodanza - regelmäßige Gruppe
END:VEVENT
END:VCALENDAR